Workbook
Name Anteil_fossil_erzeugt: E1_Projektdaten!$D$32
Name Anteil_Invest_E1: E1_Projektdaten!$F$83
Name Anteil_InvestTotal_E1: E1_Projektdaten!$I$83
Name Anteil_InvestTotal_E2: E1_Projektdaten!$I$84
Name Anteil_InvestTotal_E3: E1_Projektdaten!$I$85
Name Anteil_InvestTotal_E4: E1_Projektdaten!$I$86
Name Anteil_InvestTotal_E5: E1_Projektdaten!$I$87
Name BetriebskostenTotal: B1_Berechnungen!$F$15
Name BrennstoffkostenBiomasse: B1_Berechnungen!$F$16
Name Eigenverbrauch_HE: E1_Projektdaten!$D$133
Name Eigenverbrauch_WP: E1_Projektdaten!$D$132
Name Eing_Abnehmerart1: E2_Wärmepreis!$D$14
Name Eing_Abnehmerart2: E2_Wärmepreis!$D$20
Name Eing_Abnehmerart3: E2_Wärmepreis!$D$26
Name Eing_Abnehmerart4: E2_Wärmepreis!$D$32
Name Eing_Abnehmerart5: E2_Wärmepreis!$D$38
Name Eing_Abnehmerart6: E2_Wärmepreis!$D$44
Name Eing_AbnW: E1_Projektdaten!$D$20
Name Eing_Administration: E1_Projektdaten!$D$55
Name Eing_allg_Teuerung: E1_Projektdaten!$D$61
Name Eing_Anteil_AWN: E1_Projektdaten!$D$31
Name Eing_Anteil_Biomasse: E1_Projektdaten!$D$26
Name Eing_Anteil_Invest_E2: E1_Projektdaten!$F$84
Name Eing_Anteil_Invest_E3: E1_Projektdaten!$F$85
Name Eing_Anteil_Invest_E4: E1_Projektdaten!$F$86
Name Eing_Anteil_Invest_E5: E1_Projektdaten!$F$87
Name Eing_Anteil_Kondensation: E1_Projektdaten!$D$27
Name Eing_Anteil_WKK: E1_Projektdaten!$D$28
Name Eing_Anteil_WP: E1_Projektdaten!$D$29
Name Eing_Anteil_Zusatz: E1_Projektdaten!$D$30
Name Eing_AnteilEigen_Hilfsenergie: E1_Projektdaten!$D$40
Name Eing_AnteilEigen_WP: E1_Projektdaten!$D$38
Name Eing_Arbeitspreis1: E2_Wärmepreis!$G$16
Name Eing_Arbeitspreis2: E2_Wärmepreis!$G$22
Name Eing_Arbeitspreis3: E2_Wärmepreis!$G$28
Name Eing_Arbeitspreis4: E2_Wärmepreis!$G$34
Name Eing_Arbeitspreis5: E2_Wärmepreis!$G$40
Name Eing_Arbeitspreis6: E2_Wärmepreis!$G$46
Name Eing_Beginnjahr: E1_Projektdaten!$D$22
Name Eing_Betriebskosten: E1_Projektdaten!$D$56
Name Eing_Brennstoffpreis_WKK: E1_Projektdaten!$D$45
Name Eing_Eigenkapital: E1_Projektdaten!$D$89
Name Eing_Erstauszahlung_jährlFörderung_1: E1_Projektdaten!$D$117
Name Eing_Erstauszahlung_jährlFörderung_2: E1_Projektdaten!$D$120
Name Eing_Förderung_wiederholend_Laufzeit_1: E1_Projektdaten!$D$116
Name Eing_Förderung_wiederholend_Laufzeit_2: E1_Projektdaten!$D$119
Name Eing_Invest_AWN: E1_Projektdaten!$D$74
Name Eing_Invest_Grundstück: [1]E1_Projektdaten!$D$55
Name Eing_Invest_Hausstationen: E1_Projektdaten!$D$79
Name Eing_Invest_HolzAnlage: E1_Projektdaten!$D$69
Name Eing_Invest_Installationen: E1_Projektdaten!$D$76
Name Eing_Invest_Messung: E1_Projektdaten!$D$78
Name Eing_Invest_SondenGrundwasser: E1_Projektdaten!$D$72
Name Eing_Invest_Spitzenlast: E1_Projektdaten!$D$75
Name Eing_Invest_Wärmenetz: E1_Projektdaten!$D$77
Name Eing_Invest_WKKAnlage: E1_Projektdaten!$D$70
Name Eing_Invest_WPAnlage: E1_Projektdaten!$D$71
Name Eing_Invest_Zusatz: E1_Projektdaten!$D$73
Name Eing_JahrBegWLief: E1_Projektdaten!$D$23
Name Eing_Jahresnutzungsgrad_Kessel: E1_Projektdaten!$D$37

Sheet I1_Erläuterung
B1: Erläuterungen zum QM Holzheizwerke Wirtschaftlichkeitstool
B2: Version: 6.1 (Dezember 2025)
B3: Erläuterung
B4: Prinzipielles zu diesem Werkzeug: Haftungsausschluss Das Excel-Werkzeug wurde sehr sorgfältig erstellt, trotzdem können die Hersteller keinerlei Garantie oder Gewährleistung für die ermittelten Ergebnisse und daraus abgeleitete Schlüsse übernehmen. Durch die getroffenen Vereinfachungen ergeben sich aufgrund der Art der Berechnung bestimmte "Fehler", z.B. wird nicht berücksichtigt, ob eine Zahlung zu Jahresbeginn oder Jahresende erfolgt, da ein Jahr als eine Periode angesehen wird. Achtung: Auch wenn Warnungs-Rückmeldungen bezüglich diverser Eingabegrenzen durch das Werkzeug erfolgen, ist nicht auszuschliessen, dass durch falsche Eingabewerte eine falsche Darstellung des Endergebnisses erfolgt. Die richtige Abschätzung der Folgen bestimmter Annahmen obliegt dem Benutzer des Werkzeugs. Formeln: Die Arbeitsblätter dieser Arbeitsmappe sind mit einem Schreibschutz gesichert, alle Formeln und Berechnungen sind jedoch ersichtlich. Bitte beachten Sie, dass Änderungen daran zu Fehlern an anderen Stellen und damit zu falschen Aussagen des Werkzeugs führen können. Sensitivitätsanalyse / Was-Wäre-Wenn Rechnung: Durch Variation der Eingabeparameter und Speicherung der einzelnen Ergebnisse der Wirtschaftlichkeitsberechnung ist es möglich, Aussagen bezüglich des Einflusses einzelner Parameter auf die wirtschaftliche Entwicklung des Projekts zu erhalten. Feedback: Das Team von QM Holzheizwerke freut sich über Verbesserungsvorschläge und Anregungen zu diesem Werkzeug, bitte übermitteln Sie diese an info@qmholzheizwerke.ch
B5: Dank Die Erstellung des vorliegenden Werkzeuges erfolgte im Auftrag von Energieschweiz. Die Weiterentwicklung ermöglichte Holzenergie Schweiz und die Arbeitsgemeinschaft QM Holzheizwerke.
B6: Registerblätter: Die Datei ist aufgeteilt auf verschiedene Registerblätter Benennung: Die Benennung der Registerblätter unterscheidet auch die hauptsächliche Funktion des Arbeitsblattes: I = Information (Arbeitsblatt enthält Infos und Erläuterungen zur Anwendung der Datei) E = Eingabeblatt (Eingabe von Daten, die für die Berechnung notwendig sind) B = Berechnung A = Ausgabeblatt (Darstellung von ausgewählten Ergebnissen zum Drucken oder für den Datenexport)
A7: 100 | B7: Registerblatt "E1_Projektdaten" Eingabe von Projektdaten, Termine, Investitionskosten, Förderung, Darlehen, Betriebskosten etc.
A8: 101 | B8: allgemeine Informationen
A9: 101a | B9: Eingabefelder sind hellgelb unterlegt
A10: 101b | B10: Eingabefelder mit Standardwerten und/oder Berechnungen sind hellblau unterlegt Bitte beachten Sie, dass das Überschreiben dieser Felder zu Fehlern an anderen Stellen und damit zu falschen Aussagen des Werkzeuges führen können.
A11: 101c | B11: Eingabefelder in welche Daten aus der QMH Excel-Datei Situationserfassung übernommen werden können Hinweis: Damit keine Formeln kopiert werden, ist die Funktion "Einfügen - Werte" zu wählen.
A12: 101d | B12: Ausgabefelder, deren Inhalt kopiert werden und in einer externen Datei eingefügt werden können Die Felder sind überschreibbar. Bitte beachten Sie, dass das Überschreiben dieser Felder zu Fehlern an anderen Stellen und damit zu Fehlern führen können.
A13: 101e | B13: Vorgabewert von blauen Eingabefeldern Wert oder Formel kann bei Bedarf zur Wiederherstellung des Ausgangswertes in die zugehörige blaue Zelle übertragen können.
A14: 101k | B14: Alle CHF - Beträge müssen ohne Mehrwertsteuer angegeben werden.
A15: 105 | B15: Vorgabewerte oder -Formeln aus blauen Feldern Abweichungen werden in den blauen feldern gekennzeichnet.
A16: 106 | B16: Eingabefeld für Name und Bezeichnung von Projekt und/oder Variante
A17: 107 | B17: Bearbeitende Person des Wirtschaftlichkeitsmodelles
A18: 108 | B18: Warnungen: Im Feld Warnungen erscheint ein kurzer Erläuterungstext, wenn bei der Eingabe unplausible Angaben gemacht werden (z.B. Netzverluste = 80% oder ähnlich)
A19: 110 | B19: Wärmemengen, Netzverluste und allgemeine Angaben zum Projekt
A20: 110a | B20: Maximal verkaufte Wärmemenge in MWh/a. Summe des Wärmeverbrauches (Pkt. 320) aller Verbraucher in Register "E3_Verbraucher"
A21: 110b | B21: Netzverluste des Fernwärmenetzes bezogen auf die dem Netz zugeführte Wärmemenge (Q-Forderung QMH ≤10%). Bei Netzen im Wachstum ist allenfalls ein mittlerer Verlust anzugeben.
A22: 110c | B22: Jährliche Abnahme des Wärmebedarfes. Durchschnittliche jährliche Abnahme des Wärmebedarfes durch Effizienzmassnahmen (z.B. verbesserte Gebäudehüllen) der Wärmebezüger ab der Inbetriebnahme. Dieser Wert wird im Gesamtwärmebedarf (Pkt. 532 im Register "B1_Berechnungen") berücksichtigt.
A23: 110g | B23: Basisjahr für Investitionen - wird als Jahr 0 für die Wirtschaftlichkeitsrechnung herangezogen
A24: 110h | B24: Jahr der ersten Wärmelieferung - ab diesem Jahr werden Einnahmen generiert. (Übernahme des ersten Jahres mit Wärmelieferung aus dem Register "Verbraucher"
A25: 115 | B25: Erfassung der Energiemengen und der Nutzungsgrade
B26: #VALUE!
A27: 115a | B27: Anteil der erzeugten Nutzwärme (Pkt. 170 a), die mit Holzschnitzeln erzeugt wird in Prozent. 100% steht für eine monovalente Anlage. Der Anteil der Abgaskondensation wird separat erfasst.
A28: 115b | B28: Anteil der erzeugten Nutzwärme (Pkt. 170 a), die aus der direkten Abgaskondensation erzeugt wird in Prozent.
A29: 115c | B29: Anteil der erzeugten Nutzwärme (Pkt. 170 a), die mit einer WKK-Anlage erzeugt wird in Prozent.
A30: 115d | B30: Anteil der erzeugten Nutzwärme (Pkt. 170 a), die mit einer Wärmepumpe erzeugt wird in Prozent.
A31: 115e | B31: Anteil der erzeugten Nutzwärme (Pkt. 170 a), die mit einem Zusatzwärmeerzeuger erzeugt wird in Prozent. Der Zusatzwärmeerzeuger ist technologieoffen
A32: 115f | B32: Anteil der erzeugten Nutzwärme (Pkt. 170 a), die mit Abwärme erzeugt wird in Prozent.
A33: 115g | B33: Anteil der erzeugten Nutzwärme (Pkt. 170 a), die fossil erzeugt wird in Prozent. Wird aus den Anteilen 115a - 115f berechnet
A34: 115l | B34: thermischer Jahresnutzungsgrad der WKK-Anlage Der Gesamtnutzungsgrad der WKK-Anlage berechnet sich aus der Summe des thermischen und des elektrischen Nutzungsgrades (siehe Abbildung)
A35: 115m | B35: elektrischer Jahresnutzungsgrad der WKK-Anlage Der Gesamtnutzungsgrad der WKK-Anlage berechnet sich aus der Summe des thermischen und des elektrischen Nutzungsgrades (siehe Abbildung)
A36: 115n | B36: Jahresnutzungsgrad des Zusatzwärmeerzeugers
A37: 115o | B37: Jahresarbeitszahl (JAZ) der Wärmepumpe
A38: 115q | B38: Jahresnutzungsgrad des fossilen Spitzenlastkessels. Wird zur Spitzenlastdeckung ein Erdgaskessel eingebaut und unter Punkt 120e der Preis in MWho eingegeben, ist zusätzlich die Umrechnung von Ho zu Hu (0.9) zu berücksichtigen.
... A42: 115x | B42: Mit der WKK produzierte Pflanzenkohle in m³/a. Es ist nur die vermarktbare Pflanzenkohle und keine Asche einzutragen.
A43: 120 | B43: Erfassung der Energiepreise
...

Sheet E1_Projektdaten
A1: 100 | B1: QM Holzheizwerke - Wirtschaftlichkeitsmodell - Projektdaten
K2: 105 | M2: 105
A3: 101a | C3: Eingabefeld | K3: Vorgabewerte | O3: Bemerkungen | Q3: Hinweise
A4: b | C4: Standardwert oder Berechnung (kann geändert werden)
A5: e | C5: Vorgabewert des Standardwertes
A6: 101k | B6: (exkl. MWST)
A8: 106 | B8: Projekt/Variante: | C8: QMH Beispielprojekt 3
C9: Wärmeverbund Holz-WKK
A12: 107 | B12: Erfasst von: | C12: Datum, Erfasser:in
A14: 108 | B14: Warnungen Hinweise: | C14: =IF(W14>10,X15,IF(W14>0,X14,"")) -> 115a: Der mit dem Holzkessel erzeugte Anteil an der Jahreswärmemenge ist gering, 120d: Der Brennstoffpreis der Zusatzwärmeerzeugung ist sehr tief, 160b: Die Kreditlaufzeit sollte nicht über 25 Jahren liegen!, 160b: Die Kreditlaufzeit sollte nicht über 25 Jahren liegen! | W14: =COUNTIF(U17:W164,">0") -> 3 | X14: =_xlfn.TEXTJOIN(", ",TRUE,X18:X164) -> 115a: Der mit dem Holzkessel erzeugte Anteil an der Jahreswärmemenge ist gering, 120d: Der Brennstoffpreis der Zusatzwärmeerzeugung ist sehr tief, 160b: Die Kreditlaufzeit sollte nicht über 25 Jahren liegen!, 160b: Die Kreditlaufzeit sollte nicht über 25 Jahren liegen!
X15: Mehr als 10 Hinweise! | Y15: Es existieren Warnungen im Register 'E1_Projektdaten'!
S16: Min | T16: Max | U16: Unters. | V16: Übers. | W16: S.Fehler | X16: Warnung | Y16: MinText | Z16: MaxText | AA16: SonstText
A17: 110 | B17: Wärmemengen, Netz, Projektstart
A18: a | C18: max. Gesamtwärmebezug der Abnehmer | D18: =SUM(E3_Verbraucher!$D$18:$XFD$18) -> 17503 | E18: MWh/a | S18: 10 | T18: 9999999999 | U18: =IF($D18<S18,1,0) -> 0 | V18: =IF($D18>T18,1,0) -> 0 | X18: =IF(U18=1,Y18,IF(V18=1,Z18,IF(W18=1,AA18,""))) | Y18: 110a: Der Gesamtwärmebezug ist sehr klein | Z18: 110a: Der Wärmebezug ist sehr gross
A19: b | C19: Netzverluste | D19: 10 | E19: % | K19: 10 | S19: 4 | T19: 20 | U19: =IF($D19<S19,1,0) -> 0 | V19: =IF($D19>T19,1,0) -> 0 | W19: =IF(D19="",1,0) -> 0 | X19: =IF(U19>0,Y19,"")&IF(V19>0,Z19,"")&IF(W19>0,AA19,"") | Y19: 110b: Die Netzverluste des Wärmenetzes sind sehr niedrig | Z19: 110b: Die Netzverluste des Wärmenetzes sind sehr hoch | AA19: 110b: Keine Netzverluste eingegeben.
A20: c | C20: Abnahme des Wärmebedarfes (Effizienzsteigerung) | D20: 1 | E20: % | S20: 0 | T20: 5 | U20: =IF($D20<S20,1,0) -> 0 | V20: =IF($D20>T20,1,0) -> 0 | W20: =IF(D20="",1,0) -> 0 | X20: =IF(U20>0,Y20,"")&IF(V20>0,Z20,"")&IF(W20>0,AA20,"") | Y20: 110c: Die Abnahme des Wärmeabsatzes der Wärmebezüger ist negativ; Mehrverbrauch. | Z20: 110c: Die jährliche Abnahme des Wärmeabsatzes ist sehr hoch. | AA20: 110c: Keine jährliche Abnahme des Wärmeabsatzes eingegeben.
A22: g | C22: Jahr des Projektbeginns | D22: 2024 | S22: 2000 | T22: 2100 | U22: =IF($D22<S22,1,0) -> 0 | V22: =IF($D22>T22,1,0) -> 0 | X22: =IF(U22>0,Y22,"")&IF(V22>0,Z22,"")&IF(W22>0,AA22,"") | Y22: 110g: Das Jahr des Projektbeginns liegt vor 2000 | Z22: 110g: Das Jahr des Projektbeginns liegt nach 2100.
A23: h | C23: Jahr der Inbetriebnahme / erste Wärmelieferung | D23: =MIN(E3_Verbraucher!D21:XFD21) -> 2026 | K23: =MIN(E3_Verbraucher!D21:XFD21) -> 2026 | S23: =Eing_Beginnjahr -> 2024 | T23: =S23+3 -> 2027 | U23: =IF($D23<S23,D23,0) -> 0 | V23: =IF($D23>T23,1,0) -> 0 | X23: =IF(U23>0,Y23,"")&IF(V23>0,Z23,"")&IF(W23>0,AA23,"") | Y23: 110h: Das Jahr Inbetriebnahme liegt vor dem Projektbeginn. | Z23: 110h: Das Jahr der Inbetriebnahme liegt mehr als 3 Jahre nach dem Projektbeginn. Erste Wärmelieferung im Register Verbraucher anpassen.
A25: 115 | B25: Energiemengen, Produktion
A26: a | C26: Anteil der mit Holzschnitzelkesseln erzeugten Nutzwärme | D26: 60 | E26: % | S26: 70 | T26: 100 | U26: =IF($D26<S26,1,0) -> 1 | V26: =IF($D26>T26,1,0) -> 0 | X26: =IF(U26>0,Y26,"")&IF(V26>0,Z26,"")&IF(W26>0,AA26,"") -> 115a: Der mit dem Holzkessel erzeugte Anteil an der Jahreswärmemenge ist gering | Y26: 115a: Der mit dem Holzkessel erzeugte Anteil an der Jahreswärmemenge ist gering | Z26: 115a: Der mit dem Holzkessel erzeugte Anteil an der Jahreswärmemenge ist über 100%
A27: b | C27: Anteil der erzeugten Nutzwärme aus Abgaskondensation | E27: % | S27: 0 | T27: =0.2*Eing_Anteil_Biomasse -> 12 | U27: =IF($D27<S27,1,0) -> 0 | V27: =IF($D27>T27,1,0) -> 0 | X27: =IF(U27>0,Y27,"")&IF(V27>0,Z27,"")&IF(W27>0,AA27,"") | Y27: 115b: Der mit der Abgaskondensation erzeugte Anteil an der Jahreswärmemenge ist gering | Z27: 115b: Der mit der Abgaskondensation erzeugte Anteil an der Jahreswärmemenge ist sehr hoch
A28: c | C28: Anteil der mit WKK erzeugten Nutzwärme | D28: 30 | E28: % | S28: 10 | T28: 100 | U28: =IF(AND($D28>0,$D28<S28),1,0) -> 0 | V28: =IF($D28>T28,1,0) -> 0 | X28: =IF(U28>0,Y28,"")&IF(V28>0,Z28,"")&IF(W28>0,AA28,"") | Y28: 115c: Der mit der WKK erzeugte Anteil an der Jahreswärmemenge ist gering | Z28: 115c: Der mit der WKK erzeugte Anteil an der Jahreswärmemenge ist über 100%
A29: d | C29: Anteil der mit Wärmepumpen erzeugten Nutzwärme | E29: % | S29: 5 | T29: 100 | U29: =IF(AND($D29>0,$D29<S29),1,0) -> 0 | V29: =IF($D29>T29,1,0) -> 0 | X29: =IF(U29>0,Y29,"")&IF(V29>0,Z29,"")&IF(W29>0,AA29,"") | Y29: 115d: Der mit der WP erzeugte Anteil an der Jahreswärmemenge ist gering | Z29: 115d: Der mit der WP erzeugte Anteil an der Jahreswärmemenge ist über 100%
A30: e | C30: Anteil der mit Zusatzwärmeerzeuger erzeugten Nutzwärme | E30: % | S30: 10 | T30: 100 | U30: =IF(AND($D30>0,$D30<S30),1,0) -> 0 | V30: =IF($D30>T30,1,0) -> 0 | X30: =IF(U30>0,Y30,"")&IF(V30>0,Z30,"")&IF(W30>0,AA30,"") | Y30: 115e: Der mit dem Zusatzwärmeerzeuger erzeugte Anteil an der Jahreswärmemenge ist gering | Z30: 115e: Der mit dem Zusatzwärmeerzeuger erzeugte Anteil an der Jahreswärmemenge ist über 100%
A31: f | C31: Anteil der erzeugten Nutzwärme aus Abwärme | E31: % | S31: 5 | T31: 100 | U31: =IF(AND($D31>0,$D31<S31),1,0) -> 0 | V31: =IF($D31>T31,1,0) -> 0 | X31: =IF(U31>0,Y31,"")&IF(V31>0,Z31,"")&IF(W31>0,AA31,"") | Y31: 115f: Der mit Abwärme erzeugte Anteil an der Jahreswärmemenge ist gering | Z31: 115f: Der mit Abwärme erzeugte Anteil an der Jahreswärmemenge ist über 100%
A32: g | C32: Anteil der fossil erzeugten Nutzwärme | D32: =100-SUM(D26:D31) -> 10 | E32: %
A33: l | C33: Jahresnutzungsgrad WKK thermisch | D33: 40 | E33: % | S33: 30 | T33: 100 | U33: =IF(Eing_Anteil_WKK=0,0,IF($D33<S33,1,0)) -> 0 | V33: =IF(Eing_Anteil_WKK=0,0,IF($D33>T33,1,0)) -> 0 | X33: =IF(U33>0,Y33,"")&IF(V33>0,Z33,"")&IF(W33>0,AA33,"") | Y33: 115l: Der thermische Jahresnutzungsgrad der WKK ist sehr tief | Z33: 115l: Der thermische Jahresnutzungsgrad der WKK ist sehr hoch
A34: m | C34: Jahresnutzungsgrad WKK elektrisch | D34: 28.5 | E34: % | S34: 10 | T34: 50 | U34: =IF(Eing_Anteil_WKK=0,0,IF($D34<S34,1,0)) -> 0 | V34: =IF(Eing_Anteil_WKK=0,0,IF($D34>T34,1,0)) -> 0 | X34: =IF(U34>0,Y34,"")&IF(V34>0,Z34,"")&IF(W34>0,AA34,"") | Y34: 115m: Der elektrische Jahresnutzungsgrad der WKK ist sehr tief | Z34: 115m: Der elektrische Jahresnutzungsgrad der WKK ist sehr hoch
A35: n | C35: Jahresnutzungsgrad Zusatzwärmeerzeuger | E35: % | S35: 40 | T35: 90 | U35: =IF(Eing_Anteil_WP=0,0,IF($D35<S35,1,0)) -> 0 | V35: =IF(Eing_Anteil_WP=0,0,IF($D35>T35,1,0)) -> 0 | X35: =IF(U35>0,Y35,"")&IF(V35>0,Z35,"")&IF(W35>0,AA35,"") | Y35: 115n: Der Jahresnutzungsgrad des Zusatzwärmerzeugung ist sehr tief | Z35: 115n: Der Jahresnutzungsgrad des Zusatzwärmeerzeugers ist sehr hoch
A36: o | C36: Jahresarbeitszahl JAZ der Wärmepumpe | E36: - | S36: 1 | T36: 10 | U36: =IF(Eing_Anteil_WP=0,0,IF($D36<S36,1,0)) -> 0 | V36: =IF(Eing_Anteil_WP=0,0,IF($D36>T36,1,0)) -> 0 | X36: =IF(U36>0,Y36,"")&IF(V36>0,Z36,"")&IF(W36>0,AA36,"") | Y36: 115o: Die Jahresarbeitszahl der WP ist sehr tief | Z36: 115o: Der Jahresarbeitszahl der WP ist sehr hoch
A37: q | C37: Jahresnutzungsgrad Kessel fossil | D37: 85 | E37: % | S37: 40 | T37: 98 | U37: =IF(Anteil_fossil_erzeugt=0,0,IF($D37<S37,1,0)) -> 0 | V37: =IF(Anteil_fossil_erzeugt=0,0,IF($D37>T37,1,0)) -> 0 | W37: =IF(Anteil_fossil_erzeugt=0,0,IF(D37="",1,0)) -> 0 | X37: =IF(U37>0,Y37,"")&IF(V37>0,Z37,"")&IF(W37>0,AA37,"") | Y37: 115q: Der Jahresnutzungsgrad des fossilen Kessels ist sehr tief | Z37: 115q: Der Jahresnutzungsgrad des fossilen Kessels ist sehr hoch
A38: u | C38: Anteil Eigenverbrauch für WP | E38: % | S38: 0 | T38: 100 | U38: =IF($D38<S38,1,0) -> 0 | V38: =IF($D38>T38,1,0) -> 0 | X38: =IF(U38>0,Y38,"")&IF(V38>0,Z38,"")&IF(W38>0,AA38,"") | Y38: 115u: Der Anteil Eigenverbrauch ist negativ | Z38: 115u: Der Anteil Eigenverbrauch ist über 100%
A39: v | C39: Hilfsenergie (Strom) | D39: 2 | E39: % der produzierten Wärme | K39: 2 | S39: 1 | T39: 3 | U39: =IF($D39<S39,1,0) -> 0 | V39: =IF($D39>T39,1,0) -> 0 | W39: =IF(Eing_Spez_Stromverbrauch=0,1,0) -> 0 | X39: =IF(U39>0,Y39,"")&IF(V39>0,Z39,"")&IF(W39>0,AA39,"") | Y39: 115v: Der spezifische Stromverbrauch wurde sehr niedrig angenommen. | Z39: 115v: Der spezifische Stromverbrauch wurde sehr hoch angenommen. | AA39: 115v: Der spezifische Stromverbrauch wurde Null gesetzt.
A40: w | C40: Anteil Eigenverbrauch für Hilfsenergie | D40: 80 | E40: % | S40: 0 | T40: 100 | U40: =IF(0<$D40<S40,1,0) -> 0 | V40: =IF($D40>T40,1,0) -> 0 | X40: =IF(U40>0,Y40,"")&IF(V40>0,Z40,"")&IF(W40>0,AA40,"") | Y40: 115w: Der Anteil Eigenverbrauch ist negativ | Z40: 115w: Der Anteil Eigenverbrauch ist über 100%
A41: x | C41: Produktion Pflanzenkohle | D41: 1200 | E41: m³/a | S41: 0 | T41: =5*max_verkaufteWM*Eing_Anteil_WKK*1000 -> 2625450000 | U41: =IF(0<$D41<S41,1,0) -> 0 | V41: =IF($D41>T41,1,0) -> 0 | X41: =IF(U41>0,Y41,"")&IF(V41>0,Z41,"")&IF(W41>0,AA41,"") | Y41: 115x: Die Pflanzenkohleproduktion ist negativ | Z41: 115x: Die Pflanzenkohleproduktion ist sehr hoch | AG41: m³/a | AH41: CHF/m³
AG42: t/a | AH42: CHF/t
A43: 120 | B43: Einkaufspreise Energie
A44: a | C44: Brennstoffpreis Holzschnitzel (ab Wärmezähler) | D44: 55 | E44: CHF/MWh erzeugte Energie | S44: 0 | T44: 200 | U44: =IF($D44<S44,1,0) -> 0 | V44: =IF($D44>T44,1,0) -> 0 | X44: =IF(U44>0,Y44,"")&IF(V44>0,Z44,"")&IF(W44>0,AA44,"") | Y44: 120a: Der Schnitzelpres ist negativ | Z44: 120a: Der Schnitzelpeis ist sehr hoch
A45: c | C45: Brennstoffpreis für WKK | D45: 55 | E45: CHF/MWh Endenergie | S45: 30 | T45: 200 | U45: =IF(Eing_Anteil_WKK=0,0,IF($D45<S45,1,0)) -> 0 | V45: =IF(Eing_Anteil_WKK=0,0,IF($D45>T45,1,0)) -> 0 | X45: =IF(U45>0,Y45,"")&IF(V45>0,Z45,"")&IF(W45>0,AA45,"") | Y45: 120c: Der Brennstoffpreis der WKK ist sehr tief | Z45: 120c: Der Brennstoffpreis WKK ist sehr hoch
A46: d | C46: Brennstoffpreis für Zusatzwärmeerzeuger | E46: CHF/MWh Endenergie | S46: 30 | T46: 300 | U46: =IF(Eing_Anteil_WKK=0,0,IF($D46<S46,1,0)) -> 1 | V46: =IF(Eing_Anteil_WKK=0,0,IF($D46>T46,1,0)) -> 0 | X46: =IF(U46>0,Y46,"")&IF(V46>0,Z46,"")&IF(W46>0,AA46,"") -> 120d: Der Brennstoffpreis der Zusatzwärmeerzeugung ist sehr tief | Y46: 120d: Der Brennstoffpreis der Zusatzwärmeerzeugung ist sehr tief | Z46: 120d: Der Brennstoffpreis der Zusatzwärmeerzeugung ist sehr hoch
...

Sheet E2_Wärmepreis
A1: 200 | B1: QM Holzheizwerke - Wirtschaftlichkeitsmodell - Wärmepreis
A3: 101a | D3: Eingabefeld
A4: 101k | B4: (exkl. MWST)
A6: 206 | B6: Projekt/Variante: | D6: =IF(E1_Projektdaten!C8=0,"",E1_Projektdaten!C8) -> QMH Beispielprojekt 3
D7: =IF(E1_Projektdaten!C9=0,"",E1_Projektdaten!C9) -> Wärmeverbund Holz-WKK
D8: =IF(E1_Projektdaten!C10=0,"",E1_Projektdaten!C10)
A10: 207 | B10: Erfasst von: | D10: =IF(E1_Projektdaten!C12=0,"",E1_Projektdaten!C12) -> Datum, Erfasser:in
A12: 210 | B12: Eingabe Grund- und Arbeitspreis | K12: Bemerkungen
A14: 211 | B14: Tarif 1 | D14: bis 50 kW | G14: {=SUMPRODUCT(E3_Verbraucher!$D$18:$XFD$18*(E3_Verbraucher!$D$22:$XFD$22="T 1: "&Eing_Abnehmerart1))/max_verkaufteWM*100} -> 30.737588 | H14: % der Wärmemenge
A15: a | F15: jährlicher Grundpreis | G15: 250 | H15: CHF/kW a
A16: b | F16: Arbeitspreis | G16: 0.1 | H16: CHF/kWh
A17: c | F17: Vertragslaufzeit | G17: 20 | H17: Jahre
A20: 212 | B20: Tarif 2 | D20: 51-100 | G20: =SUMPRODUCT(E3_Verbraucher!$D$18:$XFD$18*(E3_Verbraucher!$D$22:$XFD$22="T 2: "&Eing_Abnehmerart2))/max_verkaufteWM*100 -> 7.4158716 | H20: % der Wärmemenge
A21: a | F21: jährlicher Grundpreis | G21: 230 | H21: CHF/kW a
A22: b | F22: Arbeitspreis | G22: 0.1 | H22: CHF/kWh
A23: c | F23: Vertragslaufzeit | G23: 20 | H23: Jahre
A26: 213 | B26: Tarif 3 | D26: 101-500 | G26: =SUMPRODUCT(E3_Verbraucher!$D$18:$XFD$18*(E3_Verbraucher!$D$22:$XFD$22="T 3: "&Eing_Abnehmerart3))/max_verkaufteWM*100 -> 61.846541 | H26: % der Wärmemenge
A27: a | F27: jährlicher Grundpreis | G27: 215 | H27: CHF/kW a
A28: b | F28: Arbeitspreis | G28: 0.1 | H28: CHF/kWh
A29: c | F29: Vertragslaufzeit | G29: 20 | H29: Jahre
A32: 214 | B32: Tarif 4 | D32: über 500 | G32: =SUMPRODUCT(E3_Verbraucher!$D$18:$XFD$18*(E3_Verbraucher!$D$22:$XFD$22="T 4: "&Eing_Abnehmerart4))/max_verkaufteWM*100 -> 0 | H32: % der Wärmemenge
A33: a | F33: jährlicher Grundpreis | G33: 200 | H33: CHF/kW a
A34: b | F34: Arbeitspreis | G34: 0.1 | H34: CHF/kWh
A35: c | F35: Vertragslaufzeit | G35: 20 | H35: Jahre
A38: 215 | B38: Tarif 5 | G38: {=SUMPRODUCT(E3_Verbraucher!$D$18:$XFD$18*(E3_Verbraucher!$D$22:$XFD$22="T 5: "&Eing_Abnehmerart5))/max_verkaufteWM*100} -> 0 | H38: % der Wärmemenge
A39: a | F39: jährlicher Grundpreis | H39: CHF/kW a
A40: b | F40: Arbeitspreis | H40: CHF/kWh
A41: c | F41: Vertragslaufzeit | H41: Jahre
A44: 216 | B44: Tarif 6 | G44: {=SUMPRODUCT(E3_Verbraucher!$D$18:$XFD$18*(E3_Verbraucher!$D$22:$XFD$22="T 6: "&Eing_Abnehmerart6))/max_verkaufteWM*100} -> 0 | H44: % der Wärmemenge
A45: a | F45: jährlicher Grundpreis | H45: CHF/kW a
A46: b | F46: Arbeitspreis | H46: CHF/kWh
A47: c | F47: Vertragslaufzeit | H47: Jahre

Sheet E3_Verbraucher
A1: 300 | B1: QM Holzheizwerke - Wirtschaftlichkeitsmodell - Eingabe Verbraucher
A3: 101a | C3: Eingabefeld
A4: 101b | C4: Standardwert oder Berechnung (kann geändert werden)
A5: 101c | C5: Feld für Übertrag aus Situationserfassung
A6: 206 | B6: Projekt/Variante: | C6: =IF(E1_Projektdaten!C8=0,"",E1_Projektdaten!C8) -> QMH Beispielprojekt 3
C7: =IF(E1_Projektdaten!C9=0,"",E1_Projektdaten!C9) -> Wärmeverbund Holz-WKK
C8: =IF(E1_Projektdaten!C10=0,"",E1_Projektdaten!C10)
A10: 207 | B10: Erfasst von: | C10: =IF(E1_Projektdaten!C12=0,"",E1_Projektdaten!C12) -> Datum, Erfasser:in
A12: 310 | B12: Eingaben Verbraucher
A14: 311 | B14: Allgemeines | C14: Nummer | D14: 1 | E14: 2 | F14: 3 | G14: 4 | H14: 5 | I14: 6 | J14: 7 | K14: 8 | L14: 9 | M14: 10 | N14: 11 | O14: 12 | P14: 13 | Q14: 14 | R14: 15 | S14: 16 | T14: 17 | U14: 18 | V14: 19 | W14: 20 | X14: 21 | Y14: 22 | Z14: 23 | AA14: 24 | AB14: 25 | AC14: 26 | AD14: 27 | AE14: 28 | AF14: 29 | AG14: 30 | AH14: 31 | AI14: 32 | AJ14: 33 | AK14: 34 | AL14: 35 | AM14: 36 | AN14: 37 | AO14: 38 | AP14: 39 | AQ14: 40 | AR14: 41 | AS14: 42
A15: 312 | C15: Bezeichnung | D15: Hotel | E15: Hotel | F15: Hotel | G15: Hotel | H15: Hotel | I15: Hotel | J15: Hotel | K15: Hotel | L15: Hotel | M15: Schulhaus | N15: übrige | O15: übrige | P15: Hotel | Q15: Hotel | R15: Hotel | S15: Hotel | T15: Hotel | U15: Hotel | V15: übrige | W15: übrige | X15: übrige | Y15: Hotel | Z15: Hotel | AA15: Hotel | AB15: Hotel | AC15: Hotel | AD15: Hotel | AE15: Whg | AF15: Whg | AG15: Whg | AH15: Whg | AI15: Hotel | AJ15: Hotel | AK15: Hotel | AL15: Hotel | AM15: Hotel | AN15: Hotel | AO15: Whg | AP15: Whg | AQ15: Whg | AR15: Whg | AS15: Whg
AQ16: 20 HA < 50 kW | AR16: 30 HA < 50 kW | AS16: 15 HA < 50 kW
A18: 320 | B18: Wärmebedarf | C18: Gesamtwärmebedarf [MWh/a] | D18: 340 | E18: 850 | F18: 150 | G18: 850 | H18: 510 | I18: 510 | J18: 340 | K18: 340 | L18: 255 | M18: 300 | N18: 80 | O18: 120 | P18: 425 | Q18: 500 | R18: 510 | S18: 765 | T18: 510 | U18: 340 | V18: 102 | W18: 100 | X18: 100 | Y18: 310 | Z18: 255 | AA18: 150 | AB18: 150 | AC18: 510 | AD18: 255 | AE18: 120 | AF18: 240 | AG18: 100 | AH18: 265 | AI18: 340 | AJ18: 170 | AK18: 255 | AL18: 170 | AM18: 166 | AN18: 350 | AO18: 300 | AP18: 400 | AQ18: 1600 | AR18: 2400 | AS18: 1000
A19: 321 | C19: abonnierte Leistung [kW] | D19: 200 | E19: 500 | F19: 100 | G19: 500 | H19: 300 | I19: 300 | J19: 200 | K19: 200 | L19: 150 | M19: 150 | N19: 40 | O19: 60 | P19: 250 | Q19: 300 | R19: 300 | S19: 450 | T19: 300 | U19: 200 | V19: 60 | W19: 50 | X19: 50 | Y19: 200 | Z19: 150 | AA19: 100 | AB19: 100 | AC19: 300 | AD19: 150 | AE19: 60 | AF19: 120 | AG19: 50 | AH19: 133 | AI19: 200 | AJ19: 100 | AK19: 150 | AL19: 100 | AM19: 100 | AN19: 200 | AO19: 150 | AP19: 200 | AQ19: 800 | AR19: 1200 | AS19: 500
A20: 322 | B20: Anschluss | C20: Wärmebedarf im Anschlussjahr [%] | D20: 0.5 | E20: 0.5 | F20: 0.5 | G20: 0.5 | H20: 0.5 | I20: 0.5 | J20: 0.5 | K20: 0.5 | L20: 0.5 | M20: 0.5 | N20: 0.5 | O20: 0.5 | P20: 0.5 | Q20: 0.5 | R20: 0.5 | S20: 0.5 | T20: 0.5 | U20: 0.5 | V20: 0.5 | W20: 0.5 | X20: 0.5 | Y20: 0.5 | Z20: 0.5 | AA20: 0.5 | AB20: 0.5 | AC20: 0.5 | AD20: 0.5 | AE20: 0.5 | AF20: 0.5 | AG20: 0.5 | AH20: 0.5 | AI20: 0.5 | AJ20: 0.5 | AK20: 0.5 | AL20: 0.5 | AM20: 0.5 | AN20: 0.5 | AO20: 0.5 | AP20: 0.5 | AQ20: 0.5 | AR20: 0.5 | AS20: 0.5
A21: 323 | C21: Anschlussjahr | D21: 2026 | E21: 2026 | F21: 2026 | G21: 2027 | H21: 2026 | I21: 2026 | J21: 2026 | K21: 2030 | L21: 2030 | M21: 2026 | N21: 2028 | O21: 2032 | P21: 2026 | Q21: 2028 | R21: 2035 | S21: 2026 | T21: 2027 | U21: 2026 | V21: 2026 | W21: 2029 | X21: 2028 | Y21: 2027 | Z21: 2026 | AA21: 2029 | AB21: 2026 | AC21: 2028 | AD21: 2026 | AE21: 2030 | AF21: 2026 | AG21: 2028 | AH21: 2026 | AI21: 2026 | AJ21: 2027 | AK21: 2027 | AL21: 2027 | AM21: 2027 | AN21: 2027 | AO21: 2027 | AP21: 2027 | AQ21: 2026 | AR21: 2028 | AS21: 2030
A22: 324 | B22: Tarif | C22: Wärmepreis-Tarif | D22: T 3: 101-500 | E22: T 3: 101-500 | F22: T 2: 51-100 | G22: T 3: 101-500 | H22: T 3: 101-500 | I22: T 3: 101-500 | J22: T 3: 101-500 | K22: T 3: 101-500 | L22: T 3: 101-500 | M22: T 3: 101-500 | N22: T 1: bis 50 kW | O22: T 2: 51-100 | P22: T 3: 101-500 | Q22: T 3: 101-500 | R22: T 3: 101-500 | S22: T 3: 101-500 | T22: T 3: 101-500 | U22: T 3: 101-500 | V22: T 2: 51-100 | W22: T 1: bis 50 kW | X22: T 1: bis 50 kW | Y22: T 3: 101-500 | Z22: T 3: 101-500 | AA22: T 2: 51-100 | AB22: T 2: 51-100 | AC22: T 3: 101-500 | AD22: T 3: 101-500 | AE22: T 2: 51-100 | AF22: T 3: 101-500 | AG22: T 1: bis 50 kW | AH22: T 3: 101-500 | AI22: T 3: 101-500 | AJ22: T 2: 51-100 | AK22: T 3: 101-500 | AL22: T 2: 51-100 | AM22: T 2: 51-100 | AN22: T 3: 101-500 | AO22: T 3: 101-500 | AP22: T 3: 101-500 | AQ22: T 1: bis 50 kW | AR22: T 1: bis 50 kW | AS22: T 1: bis 50 kW
A23: 325 | B23: (exkl. MWSt.) | C23: Anschlusskosten (einmalig) [CHF] | D23: =IF(D19<51,13000+800*D19,IF(D19<101,20000+700*D19,IF(D19<500,80000+400*D19,100000+300*D19))) -> 160000 | E23: =IF(E19<51,13000+800*E19,IF(E19<101,20000+700*E19,IF(E19<500,80000+400*E19,100000+300*E19))) -> 250000 | F23: =IF(F19<51,13000+800*F19,IF(F19<101,20000+700*F19,IF(F19<500,80000+400*F19,100000+300*F19))) -> 90000 | G23: =IF(G19<51,13000+800*G19,IF(G19<101,20000+700*G19,IF(G19<500,80000+400*G19,100000+300*G19))) -> 250000 | H23: =IF(H19<51,13000+800*H19,IF(H19<101,20000+700*H19,IF(H19<500,80000+400*H19,100000+300*H19))) -> 200000 | I23: =IF(I19<51,13000+800*I19,IF(I19<101,20000+700*I19,IF(I19<500,80000+400*I19,100000+300*I19))) -> 200000 | J23: =IF(J19<51,13000+800*J19,IF(J19<101,20000+700*J19,IF(J19<500,80000+400*J19,100000+300*J19))) -> 160000 | K23: =IF(K19<51,13000+800*K19,IF(K19<101,20000+700*K19,IF(K19<500,80000+400*K19,100000+300*K19))) -> 160000 | ... AP23: =IF(AP19<51,13000+800*AP19,IF(AP19<101,20000+700*AP19,IF(AP19<500,80000+400*AP19,100000+300*AP19))) -> 160000 | AQ23: =20*13000+800*AQ19 -> 900000 | AR23: =30*13000+800*AR19 -> 1350000 | AS23: =15*13000+800*AS19 -> 595000
A24: 326 | B24: Förderung | C24: einm. Förderung des Anschlusses | D24: =40*D18 -> 13600 | E24: =40*E18 -> 34000 | F24: =40*F18 -> 6000 | G24: =40*G18 -> 34000 | H24: =40*H18 -> 20400 | I24: =40*I18 -> 20400 | J24: =40*J18 -> 13600 | K24: =40*K18 -> 13600 | ... AS24: =40*AS18 -> 40000
A25: 330 | C25: jährliche Kapitalkosten [CHF/a] | D25: =IF(ISBLANK(D22),0,SUM(D23,-D24)/VLOOKUP(D22,$B$36:$E$41,4,0)) -> 7320 | E25: =IF(ISBLANK(E22),0,SUM(E23,-E24)/VLOOKUP(E22,$B$36:$E$41,4,0)) -> 10800 | F25: =IF(ISBLANK(F22),0,SUM(F23,-F24)/VLOOKUP(F22,$B$36:$E$41,4,0)) -> 4200 | G25: =IF(ISBLANK(G22),0,SUM(G23,-G24)/VLOOKUP(G22,$B$36:$E$41,4,0)) -> 10800 | H25: =IF(ISBLANK(H22),0,SUM(H23,-H24)/VLOOKUP(H22,$B$36:$E$41,4,0)) -> 8980 | I25: =IF(ISBLANK(I22),0,SUM(I23,-I24)/VLOOKUP(I22,$B$36:$E$41,4,0)) -> 8980 | J25: =IF(ISBLANK(J22),0,SUM(J23,-J24)/VLOOKUP(J22,$B$36:$E$41,4,0)) -> 7320 | K25: =IF(ISBLANK(K22),0,SUM(K23,-K24)/VLOOKUP(K22,$B$36:$E$41,4,0)) -> 7320 | ... IZ25: =IF(ISBLANK(IZ22),0,SUM(IZ23,-IZ24)/VLOOKUP(IZ22,$B$36:$E$41,4,0)) -> 0
A26: 331 | C26: jährliche Grundkosten [CHF/a] | D26: =IF(ISBLANK(D22),0,(D19*VLOOKUP(D22,$B$36:$D$41,3,0))) -> 43000 | E26: =IF(ISBLANK(E22),0,(E19*VLOOKUP(E22,$B$36:$D$41,3,0))) -> 107500 | F26: =IF(ISBLANK(F22),0,(F19*VLOOKUP(F22,$B$36:$D$41,3,0))) -> 23000 | G26: =IF(ISBLANK(G22),0,(G19*VLOOKUP(G22,$B$36:$D$41,3,0))) -> 107500 | H26: =IF(ISBLANK(H22),0,(H19*VLOOKUP(H22,$B$36:$D$41,3,0))) -> 64500 | I26: =IF(ISBLANK(I22),0,(I19*VLOOKUP(I22,$B$36:$D$41,3,0))) -> 64500 | J26: =IF(ISBLANK(J22),0,(J19*VLOOKUP(J22,$B$36:$D$41,3,0))) -> 43000 | K26: =IF(ISBLANK(K22),0,(K19*VLOOKUP(K22,$B$36:$D$41,3,0))) -> 43000 | ... IZ26: =IF(ISBLANK(IZ22),0,(IZ19*VLOOKUP(IZ22,$B$36:$D$41,3,0))) -> 0
A27: 332 | C27: jährliche Energiekosten [CHF/a] | D27: =IF(ISBLANK(D22),0,(D18*1000*VLOOKUP(D22,$B$36:$D$41,2,0))) -> 34000 | E27: =IF(ISBLANK(E22),0,(E18*1000*VLOOKUP(E22,$B$36:$D$41,2,0))) -> 85000 | F27: =IF(ISBLANK(F22),0,(F18*1000*VLOOKUP(F22,$B$36:$D$41,2,0))) -> 15000 | G27: =IF(ISBLANK(G22),0,(G18*1000*VLOOKUP(G22,$B$36:$D$41,2,0))) -> 85000 | H27: =IF(ISBLANK(H22),0,(H18*1000*VLOOKUP(H22,$B$36:$D$41,2,0))) -> 51000 | I27: =IF(ISBLANK(I22),0,(I18*1000*VLOOKUP(I22,$B$36:$D$41,2,0))) -> 51000 | J27: =IF(ISBLANK(J22),0,(J18*1000*VLOOKUP(J22,$B$36:$D$41,2,0))) -> 34000 | K27: =IF(ISBLANK(K22),0,(K18*1000*VLOOKUP(K22,$B$36:$D$41,2,0))) -> 34000 | ... IZ27: =IF(ISBLANK(IZ22),0,(IZ18*1000*VLOOKUP(IZ22,$B$36:$D$41,2,0))) -> 0
A28: 333 | C28: Grund- und Energiekosten [CHF/a] | D28: =IF(ISBLANK(D22),0,SUM(D26:D27)) -> 77000 | E28: =IF(ISBLANK(E22),0,SUM(E26:E27)) -> 192500 | F28: =IF(ISBLANK(F22),0,SUM(F26:F27)) -> 38000 | G28: =IF(ISBLANK(G22),0,SUM(G26:G27)) -> 192500 | H28: =IF(ISBLANK(H22),0,SUM(H26:H27)) -> 115500 | I28: =IF(ISBLANK(I22),0,SUM(I26:I27)) -> 115500 | J28: =IF(ISBLANK(J22),0,SUM(J26:J27)) -> 77000 | K28: =IF(ISBLANK(K22),0,SUM(K26:K27)) -> 77000 | ... IZ28: =IF(ISBLANK(IZ22),0,SUM(IZ26:IZ27)) -> 0
A29: 334 | C29: Jahreskosten [CHF/a] | D29: =IF(ISBLANK(D23),0,SUM(D25:D27)) -> 84320 | E29: =IF(ISBLANK(E23),0,SUM(E25:E27)) -> 203300 | F29: =IF(ISBLANK(F23),0,SUM(F25:F27)) -> 42200 | G29: =IF(ISBLANK(G23),0,SUM(G25:G27)) -> 203300 | H29: =IF(ISBLANK(H23),0,SUM(H25:H27)) -> 124480 | I29: =IF(ISBLANK(I23),0,SUM(I25:I27)) -> 124480 | J29: =IF(ISBLANK(J23),0,SUM(J25:J27)) -> 84320 | K29: =IF(ISBLANK(K23),0,SUM(K25:K27)) -> 84320 | ... IZ29: =IF(ISBLANK(IZ23),0,SUM(IZ25:IZ27)) -> 0
A30: 335 | C30: Wärmegestehungspreis [Rp/kWh] | D30: =IF(ISBLANK(D18),0,(D29/D18/10)) -> 24.8 | E30: =IF(ISBLANK(E18),0,(E29/E18/10)) -> 23.917647 | F30: =IF(ISBLANK(F18),0,(F29/F18/10)) -> 28.133333 | G30: =IF(ISBLANK(G18),0,(G29/G18/10)) -> 23.917647 | H30: =IF(ISBLANK(H18),0,(H29/H18/10)) -> 24.407843 | I30: =IF(ISBLANK(I18),0,(I29/I18/10)) -> 24.407843 | J30: =IF(ISBLANK(J18),0,(J29/J18/10)) -> 24.8 | K30: =IF(ISBLANK(K18),0,(K29/K18/10)) -> 24.8 | ... IZ30: =IF(ISBLANK(IZ18),0,(IZ29/IZ18/10)) -> 0
B35: Tarifname | C35: Arbeitstarif [CHF/kWh a] | D35: Leistungstarif [CHF/kW] | E35: Vertragslaufzeit [Jahre]
B36: ="T 1: "&Eing_Abnehmerart1 -> T 1: bis 50 kW | C36: =Eing_Arbeitspreis1 -> 0.1 | D36: =Eing_Leistungspreis1 -> 250 | E36: =Eing_Vertragslaufzeit1 -> 20
B37: ="T 2: "&Eing_Abnehmerart2 -> T 2: 51-100 | C37: =Eing_Arbeitspreis2 -> 0.1 | D37: =Eing_Leistungspreis2 -> 230 | E37: =Eing_Vertragslaufzeit2 -> 20
B38: ="T 3: "&Eing_Abnehmerart3 -> T 3: 101-500 | C38: =Eing_Arbeitspreis3 -> 0.1 | D38: =Eing_Leistungspreis3 -> 215 | E38: =Eing_Vertragslaufzeit3 -> 20
B39: ="T 4: "&Eing_Abnehmerart4 -> T 4: über 500 | C39: =Eing_Arbeitspreis4 -> 0.1 | D39: =Eing_Leistungspreis4 -> 200 | E39: =Eing_Vertragslaufzeit4 -> 20
B40: ="T 5: "&Eing_Abnehmerart5 -> T 5: | C40: =Eing_Arbeitspreis5 -> 0 | D40: =Eing_Leistungspreis5 -> 0 | E40: =Eing_Vertragslaufzeit5 -> 0
B41: ="T 6: "&Eing_Abnehmerart6 -> T 6: | C41: =Eing_Arbeitspreis6 -> 0 | D41: =Eing_Leistungspreis6 -> 0 | E41: =Eing_Vertragslaufzeit6 -> 0

Sheet B1_Berechnungen
A1: 500 | B1: QM Holzheizwerke - Wirtschaftlichkeitsmodell - Ergebnis
A3: 101a | D3: Eingabefeld
A4: 101b | D4: Standardwert oder Berechnung (kann geändert werden)
A6: 206 | B6: Projekt/Variante: | D6: =IF(E1_Projektdaten!C8=0,"",E1_Projektdaten!C8) -> QMH Beispielprojekt 3 | J6: 505 | K6: Wirtschaftliche Entwicklung (Diagramme) | AH6: 506 | AI6: Entwicklung Kreditstand / Restwert (Diagramm)
D7: =IF(E1_Projektdaten!C9=0,"",E1_Projektdaten!C9) -> Wärmeverbund Holz-WKK
D8: =IF(E1_Projektdaten!C10=0,"",E1_Projektdaten!C10)
A10: 207 | B10: Erfasst von: | D10: =IF(E1_Projektdaten!C12=0,"",E1_Projektdaten!C12) -> Datum, Erfasser:in
A12: 501 | B12: Warnungen: | D12: =IF(E1_Projektdaten!C14<>"",E1_Projektdaten!Y15,"") -> Es existieren Warnungen im Register 'E1_Projektdaten'!
G13: 511
A14: 510 | B14: Betriebskosten | E14: (100% Auslastung; Jahr 1) | F14: [CHF/a] | G14: Teuerung [%]
A15: a | B15: Total Betriebskosten | F15: =SUM(F16:F26) -> 2193192.8 | G15: {=IF(F15=0,0,SUMPRODUCT(F16:F26*G16:G26)/SUM(F16:F26))} -> 0.01
A16: b | C16: Brennstoff Biomasse | F16: =Energiekosten_Holzschnitzel -> 473168.59 | G16: =Eing_allg_Teuerung/100 -> 0.01
A17: c | C17: Energiekosten WKK | F17: =Energiekosten_WKK -> 591460.74 | G17: =Eing_allg_Teuerung/100 -> 0.01
A18: d | C18: Energiekosten Zusatzwärmeerzeuger | F18: =Energiekosten_Zusatz -> 0 | G18: =Eing_allg_Teuerung/100 -> 0.01
A19: e | C19: Energiekosten Abwärmenutzung | F19: =Energiekosten_AWN -> 0 | G19: =Eing_allg_Teuerung/100 -> 0.01
A20: f | C20: Brennstoff fossil | F20: =Energiekosten_fossil -> 202425.07 | G20: =Eing_allg_Teuerung/100 -> 0.01
A21: g | C21: Strom (Hilfsenergie + WP) | F21: =SUM(Stromkosten_Hilfsenergie,Stromkosten_WP) -> 14338.442 | G21: =Eing_allg_Teuerung/100 -> 0.01
A22: h | C22: Betriebskosten | F22: =Eing_Betriebskosten -> 100000 | G22: =Eing_allg_Teuerung/100 -> 0.01
A23: i | C23: Personalkosten | F23: =Eing_Administration -> 138800 | G23: =Eing_allg_Teuerung/100 -> 0.01
A24: j | C24: Unterhaltskosten | F24: =Eing_Unterhaltskosten -> 443000 | G24: =Eing_allg_Teuerung/100 -> 0.01
A25: k | C25: Miete /Pacht / Grundstückskosten | F25: =Eing_Kosten_Grundstück -> 30000 | G25: =Eing_allg_Teuerung/100 -> 0.01
A26: l | C26: Sonstige (Versicherung etc.) | F26: =Eing_Sonstige_Kosten -> 200000 | G26: =Eing_allg_Teuerung/100 -> 0.01
A28: q | E28: Ertrag Stromverkauf | F28: =-Ertrag_Stromeinspeisung -> -510376.85 | G28: =Eing_allg_Teuerung/100 -> 0.01
A29: r | E29: Ertrag Pflanzenkohle | F29: =-Ertrag_Pflanzenkohle -> -480000 | G29: =Eing_allg_Teuerung/100 -> 0.01
A30: w | B30: Wärmepreis | G30: =G15 -> 0.01
B32: Projektdaten | F32: CHF
A33: 145 | C33: Gesamtinvestitionsumme | F33: =Gesamtinvestition -> 38650000
A34: 165 | C34: Total Förderung | F34: =Gesamtsumme_Förderung -> 3000000
A35: 543 | E35: Total Anschlussbeiträge | F35: =SUM(G44:G68) -> -8296200
A36: 155 | E36: Eigenkapital | F36: =Eing_Eigenkapital -> 5000000
A37: 160 | E37: Total Fremdkapital | F37: =SUM(Eing_Kredit_1,Eing_Kredit_2) -> 28000000
A39: 530 | E39: Anlagekosten | I39: Finanzierung | N39: Ertrag | U39: Aufwand | V39: Energiekosten | AB39: Betrieb- und Unterhalt | AI39: Cashflow | AM39: Erfolgsrechnung | AQ39: Restwert | AT39: Hilfsberechnungen
B41: Jahr | C41: Wärmebedarf inkl. Netzverluste | D41: Aus-lastung | E41: Investitionen | F41: Förderung einmalig | G41: Anschluss-beitreäge | H41: Netto Investitionen | I41: Eigenmittel | J41: Kredit | K41: Finanzie-rungslücke | L41: kumulierter Cashflow (Vergleich) | M41: Verzinsung Investitions- summe | N41: Wärme-verkauf (inkl. jährl. Grundpreis) | O41: Strom-einspeisung | P41: Pflanzen-kohle | Q41: Förderung jährlich | R41: Zusätzlicher Ertrag | S41: Effektiver Ertrag | T41: Gesamt-ertrag | U41: Holz-schnitzel | V41: WKK | W41: Zusatzwärmeerzeuger | X41: Abwärme-nutzung | Y41: Brennstoff fossil | Z41: Strom WP | AA41: Strom (Hilfsenergie) | AB41: Betrieb + Administra-tion | AC41: Unterhalt | AD41: Sonstige + Miete/ Pacht | AE41: Zusätzlicher Aufwand | AF41: Effektiver Aufwand | AG41: Zins Kredite | AH41: Gesamt-aufwand vor Abschreibungen | AI41: Amortisation Kredite | AJ41: Gesamt-aufwand inkl. Kredit-amortisation | AK41: Cashflow | AL41: Kumulierter Cashflow | AM41: Ab-schreibung | AN41: Gesamt-aufwand inkl. Abschreibungen | AO41: Reingewinn/ -verlust | AP41: Kumulierter Gewinn / Verlust | AQ41: Restwert der Anlagen | AR41: Kreditstand | AS41: Jahr nach IBN | AT41: Stand Eigenmittel | AU41: Kreditguthaben 1 | AV41: Kreditbedarf 1 | AW41: Amortisation Kredit 1 | AX41: Kreditstand 1 | AY41: Kreditguthaben 2 | AZ41: Kreditbedarf 2 | BA41: Amortisation Kredit 2 | BB41: Kreditstand 2 | BC41: Invest; Restwert; CashFlow | BD41: Invest; CashFlow
B42: 531 | C42: 532 | D42: 533 | E42: 541 | F42: 542 | G42: 543 | H42: 544 | I42: 551 | J42: 552 | K42: 555 | L42: 582 | M42: 559 | N42: 561 | O42: 562 | P42: 563 | Q42: 564 | R42: 566 | S42: 567 | T42: 569 | U42: 571a | V42: 571b | W42: 571c | X42: 571d | Y42: 571e | Z42: 572a | AA42: 572b | AB42: 574a | AC42: 574b | AD42: 575 | AE42: 576 | AF42: 577 | AG42: 578 | AH42: 579 | AI42: 580 | AK42: 581 | AL42: 582 | AM42: 585 | AO42: 588 | AP42: 589 | AQ42: 591 | AR42: 592 | AS42: 599
B43: [JJJJ] | C43: MWh | D43: % | E43: CHF | F43: CHF | G43: CHF | H43: CHF | I43: CHF | J43: CHF | K43: CHF | L43: CHF | M43: % | N43: CHF | O43: CHF | P43: CHF | Q43: CHF | R43: CHF | S43: CHF | T43: CHF | U43: CHF | V43: CHF | W43: CHF | X43: CHF | Y43: CHF | Z43: CHF | AA43: CHF | AB43: CHF | AC43: CHF | AD43: CHF | AE43: CHF | AF43: CHF | AG43: CHF | AH43: CHF | AI43: CHF | AJ43: CHF | AK43: CHF | AL43: CHF | AM43: CHF | AN43: CHF | AO43: CHF | AP43: CHF | AQ43: CHF | AR43: CHF | AT43: CHF | AU43: CHF | AV43: CHF | AW43: CHF | AX43: CHF | AY43: CHF | AZ43: CHF | BA43: CHF | BB43: CHF
B44: =Eing_Beginnjahr -> 2024 | C44: {=(SUMPRODUCT((E3_Verbraucher!$D$21:$XFD$21<B1_Berechnungen!B44)*E3_Verbraucher!$D$18:$XFD$18)+SUMPRODUCT((E3_Verbraucher!$D$21:$XFD$21=B1_Berechnungen!B44)*E3_Verbraucher!$D$18:$XFD$18*E3_Verbraucher!$D$20:$XFD$20))/(100-Eing_Netzverluste)*100*(1-Eing_AbnW/100)^(B1_Berechnungen!B44-Eing_Beginnjahr)} -> 0 | D44: =IF(mittl_Erzeugte_Wärmemenge=0,0,C44/mittl_Erzeugte_Wärmemenge*100) -> 0 | E44: {=IF(AS44=0,0, (Eing_Kosten_Bau*(MOD((AS44),Eing_Nutzungsdauer_Bau)=0) +Eing_Invest_HolzAnlage*(MOD((AS44),Eing_Nutzungsdauer_Holz)=0) +Eing_Invest_WKKAnlage*(MOD((AS44),Eing_Nutzungsdauer_WKK)=0) +Eing_Invest_WPAnlage*(MOD((AS44),Eing_Nutzungsdauer_WP)=0) +Eing_Invest_SondenGrundwasser*(MOD((AS44),Eing_Nutzungsdauer_SondenGW)=0) +Eing_Invest_Zusatz*(MOD((AS44),Eing_Nutzungsdauer_Zusatz)=0) +Eing_Invest_AWN*(MOD((AS44),Eing_Nutzungsdauer_AWN)=0) +Eing_Invest_Spitzenlast*(MOD((AS44),Eing_Nutzungsdauer_Spitzenlast)=0) +Eing_Invest_Installationen*(MOD((AS44),Eing_Nutzungsdauer_Installationen)=0) +Eing_Invest_Wärmenetz*(MOD((AS44),Eing_Nutzungsdauer_Netz)=0) +Eing_Invest_Messung*(MOD((AS44),Eing_Nutzungsdauer_Messung)=0))*(1+Eing_allg_Teuerung/100)^(AS44)) +Gesamtinvestition*SUMPRODUCT((E1_Projektdaten!$D$83:$D$87=B44)*E1_Projektdaten!$F$83:$F$87)/100} -> 7730000 | F44: =-SUM(Einmaliger_Förderbeitrag_1*(B44=Förderungsauszahlung_1),Einmaliger_Förderbeitrag_2*(B44=Förderungsauszahlung_2),Einmaliger_Förderbeitrag_3*(B44=Förderungsauszahlung_3)) -> 0 | G44: {=-SUMPRODUCT((E3_Verbraucher!$D$21:$XFD$21=B1_Berechnungen!B44)*E3_Verbraucher!$D$23:$XFD$23)} -> 0 | H44: =SUM(E44:G44) -> 7730000 | I44: =IF(H44<=0,0,MIN(Eing_Eigenkapital,H44)) -> 5000000 | J44: =AV44+AZ44 -> 2730000 | K44: =-H44+SUM(I44:J44) -> 0 | L44: =AL44 -> -311900 | M44: =IF(ISNUMBER(IRR(BC44)),IRR(BC44),"-") -> - | N44: {=SUM((SUMPRODUCT((E3_Verbraucher!$D$21:$XFD$21<B1_Berechnungen!B44)*E3_Verbraucher!$D$26:$XFD$26)+SUMPRODUCT((E3_Verbraucher!$D$21:$XFD$21=B1_Berechnungen!B44)*E3_Verbraucher!$D$26:$XFD$26*E3_Verbraucher!$D$20:$XFD$20))*(1+$G$30)^(B44-B$44),(SUMPRODUCT((E3_Verbraucher!$D$21:$XFD$21<B1_Berechnungen!B44)*E3_Verbraucher!$D$27:$XFD$27)+SUMPRODUCT((E3_Verbraucher!$D$21:$XFD$21=B1_Berechnungen!B44)*E3_Verbraucher!$D$27:$XFD$27*E3_Verbraucher!$D$20:$XFD$20))*((1+$G$30)*(1-E1_Projektdaten!$D$20/100))^(B44-B$44))} -> 0 | O44: =-$F$28*D44/100*((1+$G$28)^(B44-$B$44)) -> 0 | P44: =-$F$29*D44/100*((1+$G$29)^(B44-$B$44)) -> 0 | Q44: =SUM(Eing_jährlicher_Förderbeitrag_1*((B44-Eing_Erstauszahlung_jährlFörderung_1)<=(Eing_Förderung_wiederholend_Laufzeit_1-1))*(B44>=Eing_Erstauszahlung_jährlFörderung_1),Eing_jährlicher_Förderbeitrag_2*((B44-Eing_Erstauszahlung_jährlFörderung_2)<=(Eing_Förderung_wiederholend_Laufzeit_2-1))*(B44>=Eing_Erstauszahlung_jährlFörderung_2)) -> 0 | T44: =IF(S44,S44,SUM(N44:R44)) -> 0 | U44: =Energiekosten_Holzschnitzel*D44/100*((1+$G$16)^(B44-$B$44)) -> 0 | V44: =Energiekosten_WKK*D44/100*((1+$G$17)^(B44-$B$44)) -> 0 | W44: =Energiekosten_Zusatz*D44/100*((1+$G$18)^(B44-$B$44)) -> 0 | X44: =Energiekosten_AWN*D44/100*((1+$G$19)^(B44-$B$44)) -> 0 | Y44: =Energiekosten_fossil*D44/100*(1+$G$20)^(B44-$B$44) -> 0 | Z44: =Stromkosten_WP*D44/100*((1+$G$21)^(B44-$B$44)) -> 0 | AA44: =Stromkosten_Hilfsenergie*D44/100*((1+$G$21)^(B44-$B$44)) -> 0 | AB44: =($F$22*(1+$G$22)^(B44-B$44)+$F$23*(1+$G$23)^(B44-B$44))*(B44>=Eing_JahrBegWLief)*VLOOKUP(B44,E1_Projektdaten!$D$83:$I$87,6)/100 -> 0 | AC44: =$F$24*(1+$G$24)^(B44-B$44)*(B44>=Eing_JahrBegWLief)*VLOOKUP(B44,E1_Projektdaten!$D$83:$I$87,6)/100 -> 0 | AD44: =Eing_Kosten_Grundstück*(1+$G$25)^(B44-B$44)+Eing_Sonstige_Kosten*(1+$G$26)^(B44-B$44) -> 230000 | AG44: =SUM(AX44*Eing_Kreditzinssatz_1/100,BB44*Eing_Kreditzinssatz_2/100) -> 81900 | AH44: =IF(AF44,SUM(AF44:AG44),SUM(U44:AG44)) -> 311900 | AI44: =SUM(AW44,BA44) -> 0 | AJ44: =SUM(AH44,AI44) -> 311900 | AK44: =SUM(-AJ44,T44) -> -311900 | AL44: =AK44 -> -311900 | AM44: =(E1_Projektdaten!$D$68*(1+Eing_allg_Teuerung/100)^(E1_Projektdaten!$I$68*ROUNDDOWN((AS44-1)/E1_Projektdaten!$I$68,0))/E1_Projektdaten!$I$68 +E1_Projektdaten!$D$69*(1+Eing_allg_Teuerung/100)^(E1_Projektdaten!$I$69*ROUNDDOWN((AS44-1)/E1_Projektdaten!$I$69,0))/E1_Projektdaten!$I$69 +E1_Projektdaten!$D$70*(1+Eing_allg_Teuerung/100)^(E1_Projektdaten!$I$70*ROUNDDOWN((AS44-1)/E1_Projektdaten!$I$69,0))/E1_Projektdaten!$I$70 +E1_Projektdaten!$D$71*(1+Eing_allg_Teuerung/100)^(E1_Projektdaten!$I$71*ROUNDDOWN((AS44-1)/E1_Projektdaten!$I$69,0))/E1_Projektdaten!$I$71 +E1_Projektdaten!$D$72*(1+Eing_allg_Teuerung/100)^(E1_Projektdaten!$I$72*ROUNDDOWN((AS44-1)/E1_Projektdaten!$I$69,0))/E1_Projektdaten!$I$72 +E1_Projektdaten!$D$74*(1+Eing_allg_Teuerung/100)^(E1_Projektdaten!$I$74*ROUNDDOWN((AS44-1)/E1_Projektdaten!$I$69,0))/E1_Projektdaten!$I$74 +E1_Projektdaten!$D$75*(1+Eing_allg_Teuerung/100)^(E1_Projektdaten!$I$75*ROUNDDOWN((AS44-1)/E1_Projektdaten!$I$75,0))/E1_Projektdaten!$I$75 +E1_Projektdaten!$D$76*(1+Eing_allg_Teuerung/100)^(E1_Projektdaten!$I$76*ROUNDDOWN((AS44-1)/E1_Projektdaten!$I$76,0))/E1_Projektdaten!$I$76 +E1_Projektdaten!$D$77*(1+Eing_allg_Teuerung/100)^(E1_Projektdaten!$I$77*ROUNDDOWN((AS44-1)/E1_Projektdaten!$I$77,0))/E1_Projektdaten!$I$77 +E1_Projektdaten!$D$78*(1+Eing_allg_Teuerung/100)^(E1_Projektdaten!$I$78*ROUNDDOWN((AS44-1)/E1_Projektdaten!$I$78,0))/E1_Projektdaten!$I$78 +E1_Projektdaten!$D$80*(1+Eing_allg_Teuerung/100)^(E1_Projektdaten!$I$80*ROUNDDOWN((AS44-1)/E1_Projektdaten!$I$69,0))/E1_Projektdaten!$I$80 )*((AS44)>0)*VLOOKUP(B44,E1_Projektdaten!$D$83:$I$87,6 )/100 -> 0 | AN44: =SUM(AH44,AM44) -> 311900 | AO44: =SUM(T44,-AN44) -> -311900 | AP44: =AO44 -> -311900 | AQ44: {=IF(AS44-1<=0,0, (Eing_Kosten_Bau*(MOD((AS44-1),Eing_Nutzungsdauer_Bau)=0) +Eing_Invest_HolzAnlage*(MOD((AS44-1),Eing_Nutzungsdauer_Holz)=0) +Eing_Invest_WKKAnlage*(MOD((AS44-1),Eing_Nutzungsdauer_WKK)=0) +Eing_Invest_WPAnlage*(MOD((AS44-1),Eing_Nutzungsdauer_WP)=0) +Eing_Invest_SondenGrundwasser*(MOD((AS44-1),Eing_Nutzungsdauer_SondenGW)=0) +Eing_Invest_AWN*(MOD((AS44-1),Eing_Nutzungsdauer_AWN)=0) +Eing_Invest_Spitzenlast*(MOD((AS44-1),Eing_Nutzungsdauer_Spitzenlast)=0) +Eing_Invest_Installationen*(MOD((AS44-1),Eing_Nutzungsdauer_Installationen)=0) +Eing_Invest_Wärmenetz*(MOD((AS44-1),Eing_Nutzungsdauer_Netz)=0) +Eing_Invest_Messung*(MOD((AS44-1),Eing_Nutzungsdauer_Messung)=0))*(1+Eing_allg_Teuerung/100)^(AS44-1)) +(Gesamtinvestition-SUM(E1_Projektdaten!$D$79:$D$80))*SUMPRODUCT((E1_Projektdaten!$D$83:$D$87=B44)*E1_Projektdaten!$F$83:$F$87)/100-AM44} -> 6130000 | AR44: =-SUM(AX44,BB44) -> -2730000 | AS44: =MAX(B1_Berechnungen!B44-E1_Projektdaten!$D$23,0) -> 0 | AT44: =Eing_Eigenkapital-B1_Berechnungen!I44 -> 0 | AU44: =(Eing_Kredit_1*(B44=Eing_Kreditstartjahr_1)) -> 25000000 | AV44: =IF((SUM(H$44:H44)-SUM(I$44:I44))<=AU44,MAX((SUM(H$44:H44)-SUM(I$44:I44)),0),AU44) -> 2730000 | AW44: =IF(Eing_Kreditlaufzeit_1=0,0,(IF(Eing_Kreditlaufzeit_1<>0,(Eing_Kredit_1/(Eing_Kreditlaufzeit_1+Eing_Kreditstartjahr_1-Eing_StartAmortisation_Kredit1))*(Eing_Kreditlaufzeit_1>B44-Eing_Kreditstartjahr_1)*(B44>=Eing_StartAmortisation_Kredit1)))) -> 0 | AX44: =AV44-AW44 -> 2730000 | AY44: =(Eing_Kredit_2*(B44=Eing_Kreditstartjahr_2)) -> 0 | AZ44: =IF((SUM(H$44:H44)-SUM(I$44:I44)-AV44)<=AY44,MAX((SUM(H$44:H44)-SUM(I$44:I44)-AV44),0),AY44) -> 0 | BA44: =IF(Eing_Kreditlaufzeit_2=0,0,(IF(Eing_Kreditlaufzeit_2<>0,(Eing_Kredit_2/(Eing_Kreditlaufzeit_2+Eing_Kreditstartjahr_2-Eing_StartAmortisation_Kredit2))*(Eing_Kreditlaufzeit_2>B44-Eing_Kreditstartjahr_2)*(B44>=Eing_StartAmortisation_Kredit2)))) -> 0 | BB44: =AZ44-BA44 -> 0 | BC44: =SUM(-H44,AK44,AQ44) -> -1911900 | BD44: =SUM(-H44,AK44) -> -8041900
B45: =B44+1 -> 2025 | C45: {=(SUMPRODUCT((E3_Verbraucher!$D$21:$XFD$21<B1_Berechnungen!B45)*E3_Verbraucher!$D$18:$XFD$18)+SUMPRODUCT((E3_Verbraucher!$D$21:$XFD$21=B1_Berechnungen!B45)*E3_Verbraucher!$D$18:$XFD$18*E3_Verbraucher!$D$20:$XFD$20))/(100-Eing_Netzverluste)*100*(1-Eing_AbnW/100)^(B1_Berechnungen!B45-Eing_Beginnjahr)} -> 0 | D45: =IF(mittl_Erzeugte_Wärmemenge=0,0,C45/mittl_Erzeugte_Wärmemenge*100) -> 0 | E45: {=IF(AS45=0,0, (Eing_Kosten_Bau*(MOD((AS45),Eing_Nutzungsdauer_Bau)=0) +Eing_Invest_HolzAnlage*(MOD((AS45),Eing_Nutzungsdauer_Holz)=0) +Eing_Invest_WKKAnlage*(MOD((AS45),Eing_Nutzungsdauer_WKK)=0) +Eing_Invest_WPAnlage*(MOD((AS45),Eing_Nutzungsdauer_WP)=0) +Eing_Invest_SondenGrundwasser*(MOD((AS45),Eing_Nutzungsdauer_SondenGW)=0) +Eing_Invest_Zusatz*(MOD((AS45),Eing_Nutzungsdauer_Zusatz)=0) +Eing_Invest_AWN*(MOD((AS45),Eing_Nutzungsdauer_AWN)=0) +Eing_Invest_Spitzenlast*(MOD((AS45),Eing_Nutzungsdauer_Spitzenlast)=0) +Eing_Invest_Installationen*(MOD((AS45),Eing_Nutzungsdauer_Installationen)=0) +Eing_Invest_Wärmenetz*(MOD((AS45),Eing_Nutzungsdauer_Netz)=0) +Eing_Invest_Messung*(MOD((AS45),Eing_Nutzungsdauer_Messung)=0))*(1+Eing_allg_Teuerung/100)^(AS45)) +Gesamtinvestition*SUMPRODUCT((E1_Projektdaten!$D$83:$D$87=B45)*E1_Projektdaten!$F$83:$F$87)/100} -> 11595000 | F45: =-SUM(Einmaliger_Förderbeitrag_1*(B45=Förderungsauszahlung_1),Einmaliger_Förderbeitrag_2*(B45=Förderungsauszahlung_2),Einmaliger_Förderbeitrag_3*(B45=Förderungsauszahlung_3)) -> 0 | G45: {=-SUMPRODUCT((E3_Verbraucher!$D$21:$XFD$21=B1_Berechnungen!B45)*E3_Verbraucher!$D$23:$XFD$23)} -> 0 | H45: =SUM(E45:G45) -> 11595000 | I45: =IF(H45<=0,0,MIN(AT44,H45)) -> 0 | J45: =AV45+AZ45 -> 14325000 | K45: =K44-H45+SUM(I45:J45) -> 2730000 | L45: =AL45 -> -1055850 | M45: =IF(ISNUMBER(IRR((BD$44:BD44,BC45))),IRR((BD$44:BD44,BC45)),"-") -> -0.62868849 | N45: {=SUM((SUMPRODUCT((E3_Verbraucher!$D$21:$XFD$21<B1_Berechnungen!B45)*E3_Verbraucher!$D$26:$XFD$26)+SUMPRODUCT((E3_Verbraucher!$D$21:$XFD$21=B1_Berechnungen!B45)*E3_Verbraucher!$D$26:$XFD$26*E3_Verbraucher!$D$20:$XFD$20))*(1+$G$30)^(B45-B$44),(SUMPRODUCT((E3_Verbraucher!$D$21:$XFD$21<B1_Berechnungen!B45)*E3_Verbraucher!$D$27:$XFD$27)+SUMPRODUCT((E3_Verbraucher!$D$21:$XFD$21=B1_Berechnungen!B45)*E3_Verbraucher!$D$27:$XFD$27*E3_Verbraucher!$D$20:$XFD$20))*((1+$G$30)*(1-E1_Projektdaten!$D$20/100))^(B45-B$44))} -> 0 | O45: =-$F$28*D45/100*((1+$G$28)^(B45-$B$44)) -> 0 | P45: =-$F$29*D45/100*((1+$G$29)^(B45-$B$44)) -> 0 | Q45: =SUM(Eing_jährlicher_Förderbeitrag_1*((B45-Eing_Erstauszahlung_jährlFörderung_1)<=(Eing_Förderung_wiederholend_Laufzeit_1-1))*(B45>=Eing_Erstauszahlung_jährlFörderung_1),Eing_jährlicher_Förderbeitrag_2*((B45-Eing_Erstauszahlung_jährlFörderung_2)<=(Eing_Förderung_wiederholend_Laufzeit_2-1))*(B45>=Eing_Erstauszahlung_jährlFörderung_2)) -> 0 | T45: =IF(S45,S45,SUM(N45:R45)) -> 0 | U45: =Energiekosten_Holzschnitzel*D45/100*((1+$G$16)^(B45-$B$44)) -> 0 | V45: =Energiekosten_WKK*D45/100*((1+$G$17)^(B45-$B$44)) -> 0 | W45: =Energiekosten_Zusatz*D45/100*((1+$G$18)^(B45-$B$44)) -> 0 | X45: =Energiekosten_AWN*D45/100*((1+$G$19)^(B45-$B$44)) -> 0 | Y45: =Energiekosten_fossil*D45/100*(1+$G$20)^(B45-$B$44) -> 0 | Z45: =Stromkosten_WP*D45/100*((1+$G$21)^(B45-$B$44)) -> 0 | AA45: =Stromkosten_Hilfsenergie*D45/100*((1+$G$21)^(B45-$B$44)) -> 0 | AB45: =($F$22*(1+$G$22)^(B45-B$44)+$F$23*(1+$G$23)^(B45-B$44))*(B45>=Eing_JahrBegWLief)*VLOOKUP(B45,E1_Projektdaten!$D$83:$I$87,6)/100 -> 0 | AC45: =$F$24*(1+$G$24)^(B45-B$44)*(B45>=Eing_JahrBegWLief)*VLOOKUP(B45,E1_Projektdaten!$D$83:$I$87,6)/100 -> 0 | AD45: =Eing_Kosten_Grundstück*(1+$G$25)^(B45-B$44)+Eing_Sonstige_Kosten*(1+$G$26)^(B45-B$44) -> 232300 | AG45: =SUM(AX45*Eing_Kreditzinssatz_1/100,BB45*Eing_Kreditzinssatz_2/100) -> 511650 | AH45: =IF(AF45,SUM(AF45:AG45),SUM(U45:AG45)) -> 743950 | AI45: =SUM(AW45,BA45) -> 0 | AJ45: =SUM(AH45,AI45) -> 743950 | AK45: =SUM(-AJ45,T45) -> -743950 | AL45: =AL44+AK45 -> -1055850 | AM45: =(E1_Projektdaten!$D$68*(1+Eing_allg_Teuerung/100)^(E1_Projektdaten!$I$68*ROUNDDOWN((AS45-1)/E1_Projektdaten!$I$68,0))/E1_Projektdaten!$I$68 +E1_Projektdaten!$D$69*(1+Eing_allg_Teuerung/100)^(E1_Projektdaten!$I$69*ROUNDDOWN((AS45-1)/E1_Projektdaten!$I$69,0))/E1_Projektdaten!$I$69 +E1_Projektdaten!$D$70*(1+Eing_allg_Teuerung/100)^(E1_Projektdaten!$I$70*ROUNDDOWN((AS45-1)/E1_Projektdaten!$I$69,0))/E1_Projektdaten!$I$70 +E1_Projektdaten!$D$71*(1+Eing_allg_Teuerung/100)^(E1_Projektdaten!$I$71*ROUNDDOWN((AS45-1)/E1_Projektdaten!$I$69,0))/E1_Projektdaten!$I$71 +E1_Projektdaten!$D$72*(1+Eing_allg_Teuerung/100)^(E1_Projektdaten!$I$72*ROUNDDOWN((AS45-1)/E1_Projektdaten!$I$69,0))/E1_Projektdaten!$I$72 +E1_Projektdaten!$D$74*(1+Eing_allg_Teuerung/100)^(E1_Projektdaten!$I$74*ROUNDDOWN((AS45-1)/E1_Projektdaten!$I$69,0))/E1_Projektdaten!$I$74 +E1_Projektdaten!$D$75*(1+Eing_allg_Teuerung/100)^(E1_Projektdaten!$I$75*ROUNDDOWN((AS45-1)/E1_Projektdaten!$I$75,0))/E1_Projektdaten!$I$75 +E1_Projektdaten!$D$76*(1+Eing_allg_Teuerung/100)^(E1_Projektdaten!$I$76*ROUNDDOWN((AS45-1)/E1_Projektdaten!$I$76,0))/E1_Projektdaten!$I$76 +E1_Projektdaten!$D$77*(1+Eing_allg_Teuerung/100)^(E1_Projektdaten!$I$77*ROUNDDOWN((AS45-1)/E1_Projektdaten!$I$77,0))/E1_Projektdaten!$I$77 +E1_Projektdaten!$D$78*(1+Eing_allg_Teuerung/100)^(E1_Projektdaten!$I$78*ROUNDDOWN((AS45-1)/E1_Projektdaten!$I$78,0))/E1_Projektdaten!$I$78 +E1_Projektdaten!$D$80*(1+Eing_allg_Teuerung/100)^(E1_Projektdaten!$I$80*ROUNDDOWN((AS45-1)/E1_Projektdaten!$I$69,0))/E1_Projektdaten!$I$80 )*((AS45)>0)*VLOOKUP(B45,E1_Projektdaten!$D$83:$I$87,6 )/100 -> 0 | AN45: =SUM(AH45,AM45) -> 743950 | AO45: =SUM(T45,-AN45) -> -743950 | AP45: =AP44+AO45 -> -1055850 | AQ45: {=IF(AS45-1<=0,0, (Eing_Kosten_Bau*(MOD((AS45-1),Eing_Nutzungsdauer_Bau)=0) +Eing_Invest_HolzAnlage*(MOD((AS45-1),Eing_Nutzungsdauer_Holz)=0) +Eing_Invest_WKKAnlage*(MOD((AS45-1),Eing_Nutzungsdauer_WKK)=0) +Eing_Invest_WPAnlage*(MOD((AS45-1),Eing_Nutzungsdauer_WP)=0) +Eing_Invest_SondenGrundwasser*(MOD((AS45-1),Eing_Nutzungsdauer_SondenGW)=0) +Eing_Invest_AWN*(MOD((AS45-1),Eing_Nutzungsdauer_AWN)=0) +Eing_Invest_Spitzenlast*(MOD((AS45-1),Eing_Nutzungsdauer_Spitzenlast)=0) +Eing_Invest_Installationen*(MOD((AS45-1),Eing_Nutzungsdauer_Installationen)=0) +Eing_Invest_Wärmenetz*(MOD((AS45-1),Eing_Nutzungsdauer_Netz)=0) +Eing_Invest_Messung*(MOD((AS45-1),Eing_Nutzungsdauer_Messung)=0))*(1+Eing_allg_Teuerung/100)^(AS45-1)) +(Gesamtinvestition-SUM(E1_Projektdaten!$D$79:$D$80))*SUMPRODUCT((E1_Projektdaten!$D$83:$D$87=B45)*E1_Projektdaten!$F$83:$F$87)/100-AM45 +AQ44} -> 15325000 | AR45: =-SUM(AX45,BB45) -> -17055000 | AS45: =MAX(B1_Berechnungen!B45-E1_Projektdaten!$D$23,0) -> 0 | AT45: =AT44-B1_Berechnungen!I45 -> 0 | AU45: =AU44-AV44+(Eing_Kredit_1*(B45=Eing_Kreditstartjahr_1)) -> 22270000 | AV45: =IF((SUM(H$44:H45)-SUM(I$44:I45))<=AU45,MAX((SUM(H$44:H45)-SUM(I$44:I45)),0),AU45) -> 14325000 | AW45: =IF(Eing_Kreditlaufzeit_1=0,0,(IF(Eing_Kreditlaufzeit_1<>0,(Eing_Kredit_1/(Eing_Kreditlaufzeit_1+Eing_Kreditstartjahr_1-Eing_StartAmortisation_Kredit1))*(Eing_Kreditlaufzeit_1>B45-Eing_Kreditstartjahr_1)*(B45>=Eing_StartAmortisation_Kredit1)))) -> 0 | AX45: =AX44+AV45-AW45 -> 17055000 | AY45: =AY44-AZ44+(Eing_Kredit_2*(B45=Eing_Kreditstartjahr_2)) -> 0 | AZ45: =IF((SUM(H$44:H45)-SUM(I$44:I45)-AV45)<=AY45,MAX((SUM(H$44:H45)-SUM(I$44:I45)-AV45),0),AY45) -> 0 | BA45: =IF(Eing_Kreditlaufzeit_2=0,0,(IF(Eing_Kreditlaufzeit_2<>0,(Eing_Kredit_2/(Eing_Kreditlaufzeit_2+Eing_Kreditstartjahr_2-Eing_StartAmortisation_Kredit2))*(Eing_Kreditlaufzeit_2>B45-Eing_Kreditstartjahr_2)*(B45>=Eing_StartAmortisation_Kredit2)))) -> 0 | BB45: =BB44+AZ45-BA45 -> 0 | BC45: =SUM(-H45,AK45,AQ45) -> 2986050 | BD45: =SUM(-H45,AK45) -> -12338950
